BEGIN:VCALENDAR
VERSION:2.0
PRODID:-//Volejbalový klub VSK Baník Sokolov - ECPv4.6//NONSGML v1.0//EN
CALSCALE:GREGORIAN
METHOD:PUBLISH
X-WR-CALNAME:Volejbalový klub VSK Baník Sokolov
X-ORIGINAL-URL:https://vkbaniksokolov.cz
X-WR-CALDESC:Events for Volejbalový klub VSK Baník Sokolov
BEGIN:VEVENT
DTSTART;VALUE=DATE:20230311
DTEND;VALUE=DATE:20230312
DTSTAMP:20260425T180849
CREATED:20220908T190432Z
LAST-MODIFIED:20220908T190432Z
UID:1361-1678492800-1678665599@vkbaniksokolov.cz
SUMMARY:Sokolovský pohár nadějí – Orion (U14)
DESCRIPTION:
URL:https://vkbaniksokolov.cz/event/sokolovsky-pohar-nadeji-orion-u14/
END:VEVENT
END:VCALENDAR