BEGIN:VCALENDAR
VERSION:2.0
PRODID:-//Volejbalový klub VSK Baník Sokolov - ECPv4.6//NONSGML v1.0//EN
CALSCALE:GREGORIAN
METHOD:PUBLISH
X-WR-CALNAME:Volejbalový klub VSK Baník Sokolov
X-ORIGINAL-URL:https://vkbaniksokolov.cz
X-WR-CALDESC:Events for Volejbalový klub VSK Baník Sokolov
BEGIN:VEVENT
DTSTART;VALUE=DATE:20230304
DTEND;VALUE=DATE:20230304
DTSTAMP:20260425T150036
CREATED:20221006T184430Z
LAST-MODIFIED:20221006T184639Z
UID:1466-1677888000-1677974399@vkbaniksokolov.cz
SUMMARY:Krajský přebor U14 - Sokolov
DESCRIPTION:
URL:https://vkbaniksokolov.cz/event/krajsky-prebor-u14-sokolov/
END:VEVENT
END:VCALENDAR